Package: ReactomeGraph4R Version: 1.12.0 Command: E:\biocbuild\bbs-3.19-bioc\R\bin\R.exe CMD INSTALL ReactomeGraph4R StartedAt: 2024-10-16 16:41:10 -0400 (Wed, 16 Oct 2024) EndedAt: 2024-10-16 16:41:41 -0400 (Wed, 16 Oct 2024) EllapsedTime: 31.1 seconds RetCode: 0 Status: OK