Package: ReactomeGraph4R Version: 1.12.0 Command: rm -rf ReactomeGraph4R.buildbin-libdir && mkdir ReactomeGraph4R.buildbin-libdir && F:\biocbuild\bbs-3.19-bioc\R\bin\R.exe CMD INSTALL --build --library=ReactomeGraph4R.buildbin-libdir ReactomeGraph4R_1.12.0.tar.gz StartedAt: 2024-06-27 08:45:27 -0400 (Thu, 27 Jun 2024) EndedAt: 2024-06-27 08:45:40 -0400 (Thu, 27 Jun 2024) EllapsedTime: 13.3 seconds RetCode: 0 Status: OK PackageFile: ReactomeGraph4R_1.12.0.zip PackageFileSize: 877.4 KiB