Package: ReactomeGraph4R Version: 1.12.0 Command: /Library/Frameworks/R.framework/Resources/bin/R CMD check --install=check:ReactomeGraph4R.install-out.txt --library=/Library/Frameworks/R.framework/Resources/library --no-vignettes --timings ReactomeGraph4R_1.12.0.tar.gz StartedAt: 2024-10-17 11:35:34 -0400 (Thu, 17 Oct 2024) EndedAt: 2024-10-17 11:37:00 -0400 (Thu, 17 Oct 2024) EllapsedTime: 86.2 seconds RetCode: 0 Status: OK CheckDir: ReactomeGraph4R.Rcheck Warnings: 0