Package: ReactomeGraph4R Version: 1.12.0 Command: /Library/Frameworks/R.framework/Resources/bin/R CMD build --keep-empty-dirs --no-resave-data ReactomeGraph4R StartedAt: 2024-06-10 03:14:15 -0400 (Mon, 10 Jun 2024) EndedAt: 2024-06-10 03:14:37 -0400 (Mon, 10 Jun 2024) EllapsedTime: 22.8 seconds RetCode: 0 Status: OK PackageFile: ReactomeGraph4R_1.12.0.tar.gz PackageFileSize: 942.3 KiB