Package: ReactomeGraph4R Version: 1.12.0 Command: rm -rf ReactomeGraph4R.buildbin-libdir && mkdir ReactomeGraph4R.buildbin-libdir && /Users/biocbuild/BBS/utils/build-universal.sh ReactomeGraph4R_1.12.0.tar.gz /Library/Frameworks/R.framework/Resources/bin/R ReactomeGraph4R.buildbin-libdir StartedAt: 2024-06-11 12:44:21 -0400 (Tue, 11 Jun 2024) EndedAt: 2024-06-11 12:44:33 -0400 (Tue, 11 Jun 2024) EllapsedTime: 12.4 seconds RetCode: 0 Status: OK PackageFile: ReactomeGraph4R_1.12.0.tgz PackageFileSize: 874.7 KiB