Package: ReactomeGraph4R Version: 1.12.0 Command: rm -rf ReactomeGraph4R.buildbin-libdir && mkdir ReactomeGraph4R.buildbin-libdir && /Users/biocbuild/BBS/utils/build-universal.sh ReactomeGraph4R_1.12.0.tar.gz /Library/Frameworks/R.framework/Resources/bin/R ReactomeGraph4R.buildbin-libdir StartedAt: 2024-10-18 20:11:25 -0400 (Fri, 18 Oct 2024) EndedAt: 2024-10-18 20:11:34 -0400 (Fri, 18 Oct 2024) EllapsedTime: 9.1 seconds RetCode: 0 Status: OK PackageFile: ReactomeGraph4R_1.12.0.tgz PackageFileSize: 874.6 KiB