Package: ReactomeGSA Version: 1.18.0 Command: /home/biocbuild/bbs-3.19-bioc/R/bin/R CMD build --keep-empty-dirs --no-resave-data ReactomeGSA StartedAt: 2024-10-16 20:21:47 -0400 (Wed, 16 Oct 2024) EndedAt: 2024-10-16 20:27:05 -0400 (Wed, 16 Oct 2024) EllapsedTime: 318.6 seconds RetCode: 0 Status: OK PackageFile: ReactomeGSA_1.18.0.tar.gz PackageFileSize: 247.2 KiB