Package: ReactomeGSA Version: 1.18.0 Command: rm -rf ReactomeGSA.buildbin-libdir && mkdir ReactomeGSA.buildbin-libdir && /Users/biocbuild/BBS/utils/build-universal.sh ReactomeGSA_1.18.0.tar.gz /Library/Frameworks/R.framework/Resources/bin/R ReactomeGSA.buildbin-libdir StartedAt: 2024-10-17 16:57:14 -0400 (Thu, 17 Oct 2024) EndedAt: 2024-10-17 16:57:35 -0400 (Thu, 17 Oct 2024) EllapsedTime: 20.8 seconds RetCode: 0 Status: OK PackageFile: ReactomeGSA_1.18.0.tgz PackageFileSize: 698.6 KiB