Package: ReactomeGSA Version: 1.18.0 Command: /home/biocbuild/R/R-beta-2024-04-15_r86425/bin/R CMD check --install=check:ReactomeGSA.install-out.txt --library=/home/biocbuild/R/R-beta-2024-04-15_r86425/site-library --no-vignettes --timings ReactomeGSA_1.18.0.tar.gz StartedAt: 2024-05-09 11:02:44 -0000 (Thu, 09 May 2024) EndedAt: 2024-05-09 11:20:33 -0000 (Thu, 09 May 2024) EllapsedTime: 1069.0 seconds RetCode: 0 Status: OK CheckDir: ReactomeGSA.Rcheck Warnings: 0