Package: ReactomeGSA Version: 1.18.0 Command: /home/biocbuild/R/R-beta-2024-04-15_r86425/bin/R CMD build --keep-empty-dirs --no-resave-data ReactomeGSA StartedAt: 2024-05-09 02:53:14 -0000 (Thu, 09 May 2024) EndedAt: 2024-05-09 02:58:51 -0000 (Thu, 09 May 2024) EllapsedTime: 336.5 seconds RetCode: 0 Status: OK PackageFile: ReactomeGSA_1.18.0.tar.gz PackageFileSize: 185 KiB