Package: ReactomeGSA Version: 1.18.0 Command: /Library/Frameworks/R.framework/Resources/bin/R CMD build --keep-empty-dirs --no-resave-data ReactomeGSA StartedAt: 2024-10-17 07:19:10 -0400 (Thu, 17 Oct 2024) EndedAt: 2024-10-17 07:22:53 -0400 (Thu, 17 Oct 2024) EllapsedTime: 222.5 seconds RetCode: 0 Status: OK PackageFile: ReactomeGSA_1.18.0.tar.gz PackageFileSize: 365.5 KiB