Package: ReactomeContentService4R Version: 1.12.0 Command: E:\biocbuild\bbs-3.19-bioc\R\bin\R.exe CMD INSTALL ReactomeContentService4R StartedAt: 2024-10-16 16:07:31 -0400 (Wed, 16 Oct 2024) EndedAt: 2024-10-16 16:08:11 -0400 (Wed, 16 Oct 2024) EllapsedTime: 40.2 seconds RetCode: 0 Status: OK