Package: ReactomeContentService4R Version: 1.12.0 Command: /home/biocbuild/bbs-3.19-bioc/R/bin/R CMD check --install=check:ReactomeContentService4R.install-out.txt --library=/home/biocbuild/bbs-3.19-bioc/R/site-library --timings ReactomeContentService4R_1.12.0.tar.gz StartedAt: 2024-10-17 04:12:37 -0400 (Thu, 17 Oct 2024) EndedAt: 2024-10-17 04:13:33 -0400 (Thu, 17 Oct 2024) EllapsedTime: 56.2 seconds RetCode: 1 Status: ERROR CheckDir: ReactomeContentService4R.Rcheck Warnings: NA