Package: ReactomeContentService4R Version: 1.12.0 Command: /Library/Frameworks/R.framework/Resources/bin/R CMD build --keep-empty-dirs --no-resave-data ReactomeContentService4R StartedAt: 2024-10-16 22:27:37 -0400 (Wed, 16 Oct 2024) EndedAt: 2024-10-16 22:28:27 -0400 (Wed, 16 Oct 2024) EllapsedTime: 49.8 seconds RetCode: 0 Status: OK PackageFile: ReactomeContentService4R_1.12.0.tar.gz PackageFileSize: 2.281 MiB