Package: ReactomeContentService4R Version: 1.12.0 Command: /Library/Frameworks/R.framework/Resources/bin/R CMD check --install=check:ReactomeContentService4R.install-out.txt --library=/Library/Frameworks/R.framework/Resources/library --no-vignettes --timings ReactomeContentService4R_1.12.0.tar.gz StartedAt: 2024-10-18 08:57:33 -0400 (Fri, 18 Oct 2024) EndedAt: 2024-10-18 08:58:11 -0400 (Fri, 18 Oct 2024) EllapsedTime: 38.0 seconds RetCode: 1 Status: ERROR CheckDir: ReactomeContentService4R.Rcheck Warnings: NA