Package: ReUseData Version: 1.4.0 Command: /home/biocbuild/bbs-3.19-bioc/R/bin/R CMD build --keep-empty-dirs --no-resave-data ReUseData StartedAt: 2024-10-16 20:24:40 -0400 (Wed, 16 Oct 2024) EndedAt: 2024-10-16 20:25:33 -0400 (Wed, 16 Oct 2024) EllapsedTime: 53.1 seconds RetCode: 0 Status: OK PackageFile: ReUseData_1.4.0.tar.gz PackageFileSize: 915.9 KiB