Package: ReUseData Version: 1.4.0 Command: /Library/Frameworks/R.framework/Resources/bin/R CMD INSTALL ReUseData StartedAt: 2024-10-16 16:52:01 -0400 (Wed, 16 Oct 2024) EndedAt: 2024-10-16 16:52:36 -0400 (Wed, 16 Oct 2024) EllapsedTime: 35.1 seconds RetCode: 0 Status: OK