Package: ReUseData Version: 1.4.0 Command: rm -rf ReUseData.buildbin-libdir && mkdir ReUseData.buildbin-libdir && /Users/biocbuild/BBS/utils/build-universal.sh ReUseData_1.4.0.tar.gz /Library/Frameworks/R.framework/Resources/bin/R ReUseData.buildbin-libdir StartedAt: 2024-10-18 20:14:50 -0400 (Fri, 18 Oct 2024) EndedAt: 2024-10-18 20:15:13 -0400 (Fri, 18 Oct 2024) EllapsedTime: 22.9 seconds RetCode: 0 Status: OK PackageFile: ReUseData_1.4.0.tgz PackageFileSize: 1.377 MiB