Package: ReUseData Version: 1.4.0 Maintainer: Qian Liu MaintainerEmail: qian.liu at roswellpark.org git_url: https://git.bioconductor.org/packages/ReUseData git_branch: RELEASE_3_19 git_last_commit: 801f620 git_last_commit_date: 2024-04-30 11:46:52 -0400 (Tue, 30 Apr 2024)