Package: Rdisop Version: 1.64.0 Command: E:\biocbuild\bbs-3.19-bioc\R\bin\R.exe CMD INSTALL Rdisop StartedAt: 2024-10-16 16:00:12 -0400 (Wed, 16 Oct 2024) EndedAt: 2024-10-16 16:01:06 -0400 (Wed, 16 Oct 2024) EllapsedTime: 54.0 seconds RetCode: 0 Status: OK