Package: Rdisop Version: 1.64.0 Command: chmod a+r Rdisop -R && E:\biocbuild\bbs-3.19-bioc\R\bin\R.exe CMD build --keep-empty-dirs --no-resave-data Rdisop StartedAt: 2024-10-16 21:25:43 -0400 (Wed, 16 Oct 2024) EndedAt: 2024-10-16 21:26:50 -0400 (Wed, 16 Oct 2024) EllapsedTime: 66.5 seconds RetCode: 0 Status: OK PackageFile: Rdisop_1.64.0.tar.gz PackageFileSize: 820.9 KiB