Package: Rdisop Version: 1.64.0 Command: F:\biocbuild\bbs-3.19-bioc\R\bin\R.exe CMD INSTALL Rdisop StartedAt: 2024-06-26 15:40:46 -0400 (Wed, 26 Jun 2024) EndedAt: 2024-06-26 15:41:41 -0400 (Wed, 26 Jun 2024) EllapsedTime: 55.2 seconds RetCode: 0 Status: OK