Package: Rdisop Version: 1.64.0 Command: rm -rf Rdisop.buildbin-libdir && mkdir Rdisop.buildbin-libdir && F:\biocbuild\bbs-3.19-bioc\R\bin\R.exe CMD INSTALL --build --library=Rdisop.buildbin-libdir Rdisop_1.64.0.tar.gz StartedAt: 2024-06-27 08:45:20 -0400 (Thu, 27 Jun 2024) EndedAt: 2024-06-27 08:46:12 -0400 (Thu, 27 Jun 2024) EllapsedTime: 51.9 seconds RetCode: 0 Status: OK PackageFile: Rdisop_1.64.0.zip PackageFileSize: 659.7 KiB