Package: Rdisop Version: 1.64.0 Command: /Library/Frameworks/R.framework/Resources/bin/R CMD build --keep-empty-dirs --no-resave-data Rdisop StartedAt: 2024-06-10 03:14:07 -0400 (Mon, 10 Jun 2024) EndedAt: 2024-06-10 03:15:00 -0400 (Mon, 10 Jun 2024) EllapsedTime: 53.2 seconds RetCode: 0 Status: OK PackageFile: Rdisop_1.64.0.tar.gz PackageFileSize: 957.8 KiB