Package: RcwlPipelines Version: 1.20.0 Command: /home/biocbuild/bbs-3.19-bioc/R/bin/R CMD INSTALL RcwlPipelines StartedAt: 2024-10-16 16:46:46 -0400 (Wed, 16 Oct 2024) EndedAt: 2024-10-16 16:46:59 -0400 (Wed, 16 Oct 2024) EllapsedTime: 13.1 seconds RetCode: 0 Status: OK