Package: RcwlPipelines Version: 1.20.0 Command: /home/biocbuild/bbs-3.19-bioc/R/bin/R CMD build --keep-empty-dirs --no-resave-data RcwlPipelines StartedAt: 2024-10-16 20:21:21 -0400 (Wed, 16 Oct 2024) EndedAt: 2024-10-16 20:21:58 -0400 (Wed, 16 Oct 2024) EllapsedTime: 36.1 seconds RetCode: 0 Status: OK PackageFile: RcwlPipelines_1.20.0.tar.gz PackageFileSize: 877.5 KiB