Package: RcwlPipelines Version: 1.20.0 Command: /Library/Frameworks/R.framework/Resources/bin/R CMD INSTALL RcwlPipelines StartedAt: 2024-10-16 16:51:28 -0400 (Wed, 16 Oct 2024) EndedAt: 2024-10-16 16:52:01 -0400 (Wed, 16 Oct 2024) EllapsedTime: 33.6 seconds RetCode: 0 Status: OK