Package: RcwlPipelines Version: 1.20.0 Command: /Library/Frameworks/R.framework/Resources/bin/R CMD check --install=check:RcwlPipelines.install-out.txt --library=/Library/Frameworks/R.framework/Resources/library --no-vignettes --timings RcwlPipelines_1.20.0.tar.gz StartedAt: 2024-10-17 11:33:59 -0400 (Thu, 17 Oct 2024) EndedAt: 2024-10-17 11:38:22 -0400 (Thu, 17 Oct 2024) EllapsedTime: 263.0 seconds RetCode: 0 Status: OK CheckDir: RcwlPipelines.Rcheck Warnings: 0