Package: RcwlPipelines Version: 1.20.0 Command: /Library/Frameworks/R.framework/Resources/bin/R CMD build --keep-empty-dirs --no-resave-data RcwlPipelines StartedAt: 2024-10-16 22:26:28 -0400 (Wed, 16 Oct 2024) EndedAt: 2024-10-16 22:28:06 -0400 (Wed, 16 Oct 2024) EllapsedTime: 98.5 seconds RetCode: 0 Status: OK PackageFile: RcwlPipelines_1.20.0.tar.gz PackageFileSize: 877.4 KiB