Package: RcwlPipelines Version: 1.20.0 Command: rm -rf RcwlPipelines.buildbin-libdir && mkdir RcwlPipelines.buildbin-libdir && /Users/biocbuild/BBS/utils/build-universal.sh RcwlPipelines_1.20.0.tar.gz /Library/Frameworks/R.framework/Resources/bin/R RcwlPipelines.buildbin-libdir StartedAt: 2024-10-17 16:56:42 -0400 (Thu, 17 Oct 2024) EndedAt: 2024-10-17 16:57:19 -0400 (Thu, 17 Oct 2024) EllapsedTime: 36.9 seconds RetCode: 0 Status: OK PackageFile: RcwlPipelines_1.20.0.tgz PackageFileSize: 1.038 MiB