Package: RcwlPipelines Version: 1.20.0 Command: /Library/Frameworks/R.framework/Resources/bin/R CMD check --install=check:RcwlPipelines.install-out.txt --library=/Library/Frameworks/R.framework/Resources/library --no-vignettes --timings RcwlPipelines_1.20.0.tar.gz StartedAt: 2024-06-09 22:29:47 -0400 (Sun, 09 Jun 2024) EndedAt: 2024-06-09 22:31:58 -0400 (Sun, 09 Jun 2024) EllapsedTime: 131.5 seconds RetCode: 0 Status: OK CheckDir: RcwlPipelines.Rcheck Warnings: 0