Package: RcwlPipelines Version: 1.20.0 Command: /Library/Frameworks/R.framework/Resources/bin/R CMD build --keep-empty-dirs --no-resave-data RcwlPipelines StartedAt: 2024-06-09 17:51:46 -0400 (Sun, 09 Jun 2024) EndedAt: 2024-06-09 17:52:31 -0400 (Sun, 09 Jun 2024) EllapsedTime: 45.0 seconds RetCode: 0 Status: OK PackageFile: RcwlPipelines_1.20.0.tar.gz PackageFileSize: 877.4 KiB