Package: RcwlPipelines Version: 1.20.0 Command: rm -rf RcwlPipelines.buildbin-libdir && mkdir RcwlPipelines.buildbin-libdir && /Users/biocbuild/BBS/utils/build-universal.sh RcwlPipelines_1.20.0.tar.gz /Library/Frameworks/R.framework/Resources/bin/R RcwlPipelines.buildbin-libdir StartedAt: 2024-10-18 20:11:02 -0400 (Fri, 18 Oct 2024) EndedAt: 2024-10-18 20:11:23 -0400 (Fri, 18 Oct 2024) EllapsedTime: 21.8 seconds RetCode: 0 Status: OK PackageFile: RcwlPipelines_1.20.0.tgz PackageFileSize: 1.038 MiB