Package: Rcwl Version: 1.20.0 Command: /home/biocbuild/bbs-3.19-bioc/R/bin/R CMD INSTALL Rcwl StartedAt: 2024-10-16 16:21:03 -0400 (Wed, 16 Oct 2024) EndedAt: 2024-10-16 16:21:13 -0400 (Wed, 16 Oct 2024) EllapsedTime: 10.6 seconds RetCode: 0 Status: OK