Package: Rcwl Version: 1.20.0 Command: /Library/Frameworks/R.framework/Resources/bin/R CMD INSTALL Rcwl StartedAt: 2024-10-16 16:03:53 -0400 (Wed, 16 Oct 2024) EndedAt: 2024-10-16 16:04:26 -0400 (Wed, 16 Oct 2024) EllapsedTime: 32.7 seconds RetCode: 0 Status: OK