Package: Rcwl Version: 1.20.0 Command: /Library/Frameworks/R.framework/Resources/bin/R CMD build --keep-empty-dirs --no-resave-data Rcwl StartedAt: 2024-10-16 22:26:26 -0400 (Wed, 16 Oct 2024) EndedAt: 2024-10-16 22:28:17 -0400 (Wed, 16 Oct 2024) EllapsedTime: 111.0 seconds RetCode: 0 Status: OK PackageFile: Rcwl_1.20.0.tar.gz PackageFileSize: 1.023 MiB