Package: Rcwl Version: 1.20.0 Command: /Library/Frameworks/R.framework/Resources/bin/R CMD check --install=check:Rcwl.install-out.txt --library=/Library/Frameworks/R.framework/Resources/library --no-vignettes --timings Rcwl_1.20.0.tar.gz StartedAt: 2024-06-11 02:30:51 -0400 (Tue, 11 Jun 2024) EndedAt: 2024-06-11 02:33:35 -0400 (Tue, 11 Jun 2024) EllapsedTime: 163.9 seconds RetCode: 0 Status: OK CheckDir: Rcwl.Rcheck Warnings: 0