Package: Rcwl Version: 1.20.0 Command: /Library/Frameworks/R.framework/Resources/bin/R CMD INSTALL Rcwl StartedAt: 2024-10-16 17:29:56 -0400 (Wed, 16 Oct 2024) EndedAt: 2024-10-16 17:30:11 -0400 (Wed, 16 Oct 2024) EllapsedTime: 14.9 seconds RetCode: 0 Status: OK