Package: Rcwl Version: 1.20.0 Command: /Library/Frameworks/R.framework/Resources/bin/R CMD build --keep-empty-dirs --no-resave-data Rcwl StartedAt: 2024-10-17 07:17:45 -0400 (Thu, 17 Oct 2024) EndedAt: 2024-10-17 07:18:46 -0400 (Thu, 17 Oct 2024) EllapsedTime: 61.3 seconds RetCode: 0 Status: OK PackageFile: Rcwl_1.20.0.tar.gz PackageFileSize: 1.024 MiB