Package: Rcpi Version: 1.40.3 Command: chmod a+r Rcpi -R && E:\biocbuild\bbs-3.19-bioc\R\bin\R.exe CMD build --keep-empty-dirs --no-resave-data Rcpi StartedAt: 2024-10-16 21:24:53 -0400 (Wed, 16 Oct 2024) EndedAt: 2024-10-16 21:25:47 -0400 (Wed, 16 Oct 2024) EllapsedTime: 54.2 seconds RetCode: 0 Status: OK PackageFile: Rcpi_1.40.3.tar.gz PackageFileSize: 2.97 MiB