Package: Rcpi Version: 1.40.3 Command: rm -rf Rcpi.buildbin-libdir && mkdir Rcpi.buildbin-libdir && E:\biocbuild\bbs-3.19-bioc\R\bin\R.exe CMD INSTALL --build --library=Rcpi.buildbin-libdir Rcpi_1.40.3.tar.gz StartedAt: 2024-10-17 08:26:30 -0400 (Thu, 17 Oct 2024) EndedAt: 2024-10-17 08:27:40 -0400 (Thu, 17 Oct 2024) EllapsedTime: 70.6 seconds RetCode: 0 Status: OK PackageFile: Rcpi_1.40.3.zip PackageFileSize: 2.577 MiB