Package: Rcpi Version: 1.40.0 Command: /Library/Frameworks/R.framework/Resources/bin/R CMD INSTALL Rcpi StartedAt: 2024-06-09 16:05:58 -0400 (Sun, 09 Jun 2024) EndedAt: 2024-06-09 16:06:26 -0400 (Sun, 09 Jun 2024) EllapsedTime: 27.8 seconds RetCode: 0 Status: OK