Package: Rcpi Version: 1.40.3 Command: /Library/Frameworks/R.framework/Resources/bin/R CMD build --keep-empty-dirs --no-resave-data Rcpi StartedAt: 2024-10-17 07:17:10 -0400 (Thu, 17 Oct 2024) EndedAt: 2024-10-17 07:17:41 -0400 (Thu, 17 Oct 2024) EllapsedTime: 30.6 seconds RetCode: 0 Status: OK PackageFile: Rcpi_1.40.3.tar.gz PackageFileSize: 2.971 MiB