Package: Rbwa Version: 1.8.0 Command: rm -rf Rbwa.buildbin-libdir && mkdir Rbwa.buildbin-libdir && /Users/biocbuild/BBS/utils/build-universal.sh Rbwa_1.8.0.tar.gz /Library/Frameworks/R.framework/Resources/bin/R Rbwa.buildbin-libdir StartedAt: 2024-06-10 00:34:20 -0400 (Mon, 10 Jun 2024) EndedAt: 2024-06-10 00:34:42 -0400 (Mon, 10 Jun 2024) EllapsedTime: 22.5 seconds RetCode: 0 Status: OK PackageFile: Rbwa_1.8.0.tgz PackageFileSize: 650.8 KiB