Package: Rbowtie2 Version: 2.10.0 Command: E:\biocbuild\bbs-3.19-bioc\R\bin\R.exe CMD INSTALL Rbowtie2 StartedAt: 2024-10-16 16:16:33 -0400 (Wed, 16 Oct 2024) EndedAt: 2024-10-16 16:16:41 -0400 (Wed, 16 Oct 2024) EllapsedTime: 8.1 seconds RetCode: 1 Status: ERROR