Package: Rbowtie2 Version: 2.10.0 Command: chmod a+r Rbowtie2 -R && F:\biocbuild\bbs-3.19-bioc\R\bin\R.exe CMD build --keep-empty-dirs --no-resave-data Rbowtie2 StartedAt: 2024-06-26 21:16:42 -0400 (Wed, 26 Jun 2024) EndedAt: 2024-06-26 21:17:01 -0400 (Wed, 26 Jun 2024) EllapsedTime: 19.1 seconds RetCode: 1 Status: ERROR PackageFile: None PackageFileSize: NA