Package: Rbowtie2 Version: 2.10.0 Command: /home/biocbuild/bbs-3.19-bioc/R/bin/R CMD build --keep-empty-dirs --no-resave-data Rbowtie2 StartedAt: 2024-10-16 20:19:45 -0400 (Wed, 16 Oct 2024) EndedAt: 2024-10-16 20:24:29 -0400 (Wed, 16 Oct 2024) EllapsedTime: 283.6 seconds RetCode: 0 Status: OK PackageFile: Rbowtie2_2.10.0.tar.gz PackageFileSize: 1.711 MiB