Package: Rbowtie2 Version: 2.10.0 Command: rm -rf Rbowtie2.buildbin-libdir && mkdir Rbowtie2.buildbin-libdir && /Users/biocbuild/BBS/utils/build-universal.sh Rbowtie2_2.10.0.tar.gz /Library/Frameworks/R.framework/Resources/bin/R Rbowtie2.buildbin-libdir StartedAt: 2024-10-17 16:56:24 -0400 (Thu, 17 Oct 2024) EndedAt: 2024-10-17 17:05:28 -0400 (Thu, 17 Oct 2024) EllapsedTime: 544.3 seconds RetCode: 0 Status: OK PackageFile: Rbowtie2_2.10.0.tgz PackageFileSize: 2.031 MiB