Package: Rbowtie2 Version: 2.10.0 Command: /Library/Frameworks/R.framework/Resources/bin/R CMD INSTALL Rbowtie2 StartedAt: 2024-06-09 15:15:26 -0400 (Sun, 09 Jun 2024) EndedAt: 2024-06-09 15:19:31 -0400 (Sun, 09 Jun 2024) EllapsedTime: 245.0 seconds RetCode: 0 Status: OK