Package: Rbowtie2 Version: 2.10.0 Command: /home/biocbuild/R/R-beta-2024-04-15_r86425/bin/R CMD check --install=check:Rbowtie2.install-out.txt --library=/home/biocbuild/R/R-beta-2024-04-15_r86425/site-library --no-vignettes --timings Rbowtie2_2.10.0.tar.gz StartedAt: 2024-05-09 11:00:05 -0000 (Thu, 09 May 2024) EndedAt: 2024-05-09 11:00:39 -0000 (Thu, 09 May 2024) EllapsedTime: 33.1 seconds RetCode: 0 Status: OK CheckDir: Rbowtie2.Rcheck Warnings: 0